BEGIN:VCALENDAR
VERSION:2.0
PRODID:-//TEXAS NATIVE HEALTH - ECPv6.15.17.1//NONSGML v1.0//EN
CALSCALE:GREGORIAN
METHOD:PUBLISH
X-WR-CALNAME:TEXAS NATIVE HEALTH
X-ORIGINAL-URL:https://texasnativehealth.org
X-WR-CALDESC:Events for TEXAS NATIVE HEALTH
REFRESH-INTERVAL;VALUE=DURATION:PT1H
X-Robots-Tag:noindex
X-PUBLISHED-TTL:PT1H
BEGIN:VTIMEZONE
TZID:UTC
BEGIN:STANDARD
TZOFFSETFROM:+0000
TZOFFSETTO:+0000
TZNAME:UTC
DTSTART:20250101T000000
END:STANDARD
END:VTIMEZONE
BEGIN:VEVENT
DTSTART;TZID=UTC:20260421T100000
DTEND;TZID=UTC:20260421T110000
DTSTAMP:20260422T212831
CREATED:20260331T234418Z
LAST-MODIFIED:20260331T234418Z
UID:6147-1776765600-1776769200@texasnativehealth.org
SUMMARY:Chair Exercises w/ Marco - Native Connections
DESCRIPTION:NATIVE CONNECTIONS IS OPEN FROM 9:00AM-2:00PM DAILY
URL:https://texasnativehealth.org/event/chair-exercises-w-marco-native-connections-11/
LOCATION:Community Cultural Center (C3)\, 1269 Record Crossing Rd\, Dallas\, TX\, 75235\, United States
CATEGORIES:Elder Programming
ORGANIZER;CN="Stephanie Villanueva":MAILTO:sjvillanueva@texasnativehealth.org
END:VEVENT
BEGIN:VEVENT
DTSTART;VALUE=DATE:20260421
DTEND;VALUE=DATE:20260422
DTSTAMP:20260422T212831
CREATED:20260406T235344Z
LAST-MODIFIED:20260406T235344Z
UID:6207-1776729600-1776815999@texasnativehealth.org
SUMMARY:Native Connections @ C3
DESCRIPTION:
URL:https://texasnativehealth.org/event/native-connections-c3-105/
LOCATION:Community Cultural Center (C3)\, 1269 Record Crossing Rd\, Dallas\, TX\, 75235\, United States
CATEGORIES:Elder Programming
ORGANIZER;CN="Stephanie Villanueva":MAILTO:sjvillanueva@texasnativehealth.org
END:VEVENT
BEGIN:VEVENT
DTSTART;VALUE=DATE:20260420
DTEND;VALUE=DATE:20260421
DTSTAMP:20260422T212831
CREATED:20260406T235236Z
LAST-MODIFIED:20260406T235236Z
UID:6205-1776643200-1776729599@texasnativehealth.org
SUMMARY:Native Connections @ C3
DESCRIPTION:
URL:https://texasnativehealth.org/event/native-connections-c3-104/
LOCATION:Community Cultural Center (C3)\, 1269 Record Crossing Rd\, Dallas\, TX\, 75235\, United States
CATEGORIES:Elder Programming
ORGANIZER;CN="Stephanie Villanueva":MAILTO:sjvillanueva@texasnativehealth.org
END:VEVENT
BEGIN:VEVENT
DTSTART;VALUE=DATE:20260417
DTEND;VALUE=DATE:20260418
DTSTAMP:20260422T212831
CREATED:20260406T235134Z
LAST-MODIFIED:20260406T235134Z
UID:6203-1776384000-1776470399@texasnativehealth.org
SUMMARY:Native Connections @ C3
DESCRIPTION:
URL:https://texasnativehealth.org/event/native-connections-c3-103/
LOCATION:Community Cultural Center (C3)\, 1269 Record Crossing Rd\, Dallas\, TX\, 75235\, United States
CATEGORIES:Elder Programming
ORGANIZER;CN="Stephanie Villanueva":MAILTO:sjvillanueva@texasnativehealth.org
END:VEVENT
BEGIN:VEVENT
DTSTART;VALUE=DATE:20260416
DTEND;VALUE=DATE:20260417
DTSTAMP:20260422T212831
CREATED:20260406T235038Z
LAST-MODIFIED:20260406T235038Z
UID:6201-1776297600-1776383999@texasnativehealth.org
SUMMARY:Native Connections @ C3
DESCRIPTION:
URL:https://texasnativehealth.org/event/native-connections-c3-102/
LOCATION:Community Cultural Center (C3)\, 1269 Record Crossing Rd\, Dallas\, TX\, 75235\, United States
CATEGORIES:Elder Programming
ORGANIZER;CN="Stephanie Villanueva":MAILTO:sjvillanueva@texasnativehealth.org
END:VEVENT
BEGIN:VEVENT
DTSTART;VALUE=DATE:20260415
DTEND;VALUE=DATE:20260416
DTSTAMP:20260422T212831
CREATED:20260406T234948Z
LAST-MODIFIED:20260406T234948Z
UID:6199-1776211200-1776297599@texasnativehealth.org
SUMMARY:Native Connections @ C3
DESCRIPTION:
URL:https://texasnativehealth.org/event/native-connections-c3-101/
LOCATION:Community Cultural Center (C3)\, 1269 Record Crossing Rd\, Dallas\, TX\, 75235\, United States
CATEGORIES:Elder Programming
ORGANIZER;CN="Stephanie Villanueva":MAILTO:sjvillanueva@texasnativehealth.org
END:VEVENT
BEGIN:VEVENT
DTSTART;TZID=UTC:20260414T100000
DTEND;TZID=UTC:20260414T110000
DTSTAMP:20260422T212831
CREATED:20260331T234256Z
LAST-MODIFIED:20260331T234256Z
UID:6145-1776160800-1776164400@texasnativehealth.org
SUMMARY:Chair Exercises w/ Marco - Native Connections
DESCRIPTION:NATIVE CONNECTIONS IS OPEN FROM 9:00AM-2:00PM DAILY
URL:https://texasnativehealth.org/event/chair-exercises-w-marco-native-connections-10/
LOCATION:Community Cultural Center (C3)\, 1269 Record Crossing Rd\, Dallas\, TX\, 75235\, United States
CATEGORIES:Elder Programming
ORGANIZER;CN="Stephanie Villanueva":MAILTO:sjvillanueva@texasnativehealth.org
END:VEVENT
BEGIN:VEVENT
DTSTART;VALUE=DATE:20260414
DTEND;VALUE=DATE:20260415
DTSTAMP:20260422T212831
CREATED:20260406T234847Z
LAST-MODIFIED:20260406T234847Z
UID:6197-1776124800-1776211199@texasnativehealth.org
SUMMARY:Native Connections @ C3
DESCRIPTION:
URL:https://texasnativehealth.org/event/native-connections-c3-100/
LOCATION:Community Cultural Center (C3)\, 1269 Record Crossing Rd\, Dallas\, TX\, 75235\, United States
CATEGORIES:Elder Programming
ORGANIZER;CN="Stephanie Villanueva":MAILTO:sjvillanueva@texasnativehealth.org
END:VEVENT
BEGIN:VEVENT
DTSTART;VALUE=DATE:20260413
DTEND;VALUE=DATE:20260414
DTSTAMP:20260422T212831
CREATED:20260406T234747Z
LAST-MODIFIED:20260406T234747Z
UID:6195-1776038400-1776124799@texasnativehealth.org
SUMMARY:Native Connections @ C3
DESCRIPTION:
URL:https://texasnativehealth.org/event/native-connections-c3-99/
LOCATION:Community Cultural Center (C3)\, 1269 Record Crossing Rd\, Dallas\, TX\, 75235\, United States
CATEGORIES:Elder Programming
ORGANIZER;CN="Stephanie Villanueva":MAILTO:sjvillanueva@texasnativehealth.org
END:VEVENT
BEGIN:VEVENT
DTSTART;VALUE=DATE:20260410
DTEND;VALUE=DATE:20260411
DTSTAMP:20260422T212831
CREATED:20260406T234622Z
LAST-MODIFIED:20260406T234622Z
UID:6193-1775779200-1775865599@texasnativehealth.org
SUMMARY:Native Connections @ C3
DESCRIPTION:
URL:https://texasnativehealth.org/event/native-connections-c3-98/
LOCATION:Community Cultural Center (C3)\, 1269 Record Crossing Rd\, Dallas\, TX\, 75235\, United States
CATEGORIES:Elder Programming
ORGANIZER;CN="Stephanie Villanueva":MAILTO:sjvillanueva@texasnativehealth.org
END:VEVENT
BEGIN:VEVENT
DTSTART;VALUE=DATE:20260409
DTEND;VALUE=DATE:20260410
DTSTAMP:20260422T212831
CREATED:20260406T234538Z
LAST-MODIFIED:20260406T234538Z
UID:6191-1775692800-1775779199@texasnativehealth.org
SUMMARY:Native Connections @ C3
DESCRIPTION:
URL:https://texasnativehealth.org/event/native-connections-c3-97/
LOCATION:Community Cultural Center (C3)\, 1269 Record Crossing Rd\, Dallas\, TX\, 75235\, United States
CATEGORIES:Elder Programming
ORGANIZER;CN="Stephanie Villanueva":MAILTO:sjvillanueva@texasnativehealth.org
END:VEVENT
BEGIN:VEVENT
DTSTART;TZID=UTC:20260408T100000
DTEND;TZID=UTC:20260408T120000
DTSTAMP:20260422T212831
CREATED:20260407T000344Z
LAST-MODIFIED:20260407T000344Z
UID:6221-1775642400-1775649600@texasnativehealth.org
SUMMARY:Arts & Crafts W/ Priscilla & Terry - Native Connections
DESCRIPTION:
URL:https://texasnativehealth.org/event/arts-crafts-w-priscilla-terry-native-connections/
LOCATION:Community Cultural Center (C3)\, 1269 Record Crossing Rd\, Dallas\, TX\, 75235\, United States
CATEGORIES:Elder Programming
ORGANIZER;CN="Stephanie Villanueva":MAILTO:sjvillanueva@texasnativehealth.org
END:VEVENT
BEGIN:VEVENT
DTSTART;VALUE=DATE:20260408
DTEND;VALUE=DATE:20260409
DTSTAMP:20260422T212831
CREATED:20260406T234435Z
LAST-MODIFIED:20260406T234435Z
UID:6189-1775606400-1775692799@texasnativehealth.org
SUMMARY:Native Connections @ C3
DESCRIPTION:
URL:https://texasnativehealth.org/event/native-connections-c3-96/
LOCATION:Community Cultural Center (C3)\, 1269 Record Crossing Rd\, Dallas\, TX\, 75235\, United States
CATEGORIES:Elder Programming
ORGANIZER;CN="Stephanie Villanueva":MAILTO:sjvillanueva@texasnativehealth.org
END:VEVENT
BEGIN:VEVENT
DTSTART;TZID=UTC:20260407T100000
DTEND;TZID=UTC:20260407T110000
DTSTAMP:20260422T212831
CREATED:20260331T234152Z
LAST-MODIFIED:20260331T234152Z
UID:6143-1775556000-1775559600@texasnativehealth.org
SUMMARY:Chair Exercises w/ Marco - Native Connections
DESCRIPTION:NATIVE CONNECTIONS IS OPEN FROM 9:00AM-2:00PM DAILY
URL:https://texasnativehealth.org/event/chair-exercises-w-marco-native-connections-9/
LOCATION:Community Cultural Center (C3)\, 1269 Record Crossing Rd\, Dallas\, TX\, 75235\, United States
CATEGORIES:Elder Programming
ORGANIZER;CN="Stephanie Villanueva":MAILTO:sjvillanueva@texasnativehealth.org
END:VEVENT
BEGIN:VEVENT
DTSTART;VALUE=DATE:20260407
DTEND;VALUE=DATE:20260408
DTSTAMP:20260422T212831
CREATED:20260406T234345Z
LAST-MODIFIED:20260406T234345Z
UID:6187-1775520000-1775606399@texasnativehealth.org
SUMMARY:Native Connections @ C3
DESCRIPTION:
URL:https://texasnativehealth.org/event/native-connections-c3-95/
LOCATION:Community Cultural Center (C3)\, 1269 Record Crossing Rd\, Dallas\, TX\, 75235\, United States
CATEGORIES:Elder Programming
ORGANIZER;CN="Stephanie Villanueva":MAILTO:sjvillanueva@texasnativehealth.org
END:VEVENT
BEGIN:VEVENT
DTSTART;VALUE=DATE:20260406
DTEND;VALUE=DATE:20260407
DTSTAMP:20260422T212831
CREATED:20260406T234215Z
LAST-MODIFIED:20260406T234252Z
UID:6185-1775433600-1775519999@texasnativehealth.org
SUMMARY:Native Connections @ C3
DESCRIPTION:
URL:https://texasnativehealth.org/event/native-connections-c3-94/
LOCATION:Community Cultural Center (C3)\, 1269 Record Crossing Rd\, Dallas\, TX\, 75235\, United States
CATEGORIES:Elder Programming
ORGANIZER;CN="Stephanie Villanueva":MAILTO:sjvillanueva@texasnativehealth.org
END:VEVENT
BEGIN:VEVENT
DTSTART;TZID=UTC:20260402T090000
DTEND;TZID=UTC:20260402T140000
DTSTAMP:20260422T212831
CREATED:20260406T234033Z
LAST-MODIFIED:20260406T234103Z
UID:6183-1775120400-1775138400@texasnativehealth.org
SUMMARY:Native Connections @ C3
DESCRIPTION:
URL:https://texasnativehealth.org/event/native-connections-c3-93/
LOCATION:Community Cultural Center (C3)\, 1269 Record Crossing Rd\, Dallas\, TX\, 75235\, United States
CATEGORIES:Elder Programming
ORGANIZER;CN="Stephanie Villanueva":MAILTO:sjvillanueva@texasnativehealth.org
END:VEVENT
BEGIN:VEVENT
DTSTART;TZID=UTC:20260401T090000
DTEND;TZID=UTC:20260401T140000
DTSTAMP:20260422T212831
CREATED:20260406T233855Z
LAST-MODIFIED:20260407T000202Z
UID:6181-1775034000-1775052000@texasnativehealth.org
SUMMARY:Native Connections @ C3
DESCRIPTION:
URL:https://texasnativehealth.org/event/native-connections-c3-92/
LOCATION:Community Cultural Center (C3)\, 1269 Record Crossing Rd\, Dallas\, TX\, 75235\, United States
CATEGORIES:Elder Programming
ORGANIZER;CN="Stephanie Villanueva":MAILTO:sjvillanueva@texasnativehealth.org
END:VEVENT
END:VCALENDAR