BEGIN:VCALENDAR
VERSION:2.0
PRODID:-//TEXAS NATIVE HEALTH - ECPv6.15.17.1//NONSGML v1.0//EN
CALSCALE:GREGORIAN
METHOD:PUBLISH
X-WR-CALNAME:TEXAS NATIVE HEALTH
X-ORIGINAL-URL:https://texasnativehealth.org
X-WR-CALDESC:Events for TEXAS NATIVE HEALTH
REFRESH-INTERVAL;VALUE=DURATION:PT1H
X-Robots-Tag:noindex
X-PUBLISHED-TTL:PT1H
BEGIN:VTIMEZONE
TZID:UTC
BEGIN:STANDARD
TZOFFSETFROM:+0000
TZOFFSETTO:+0000
TZNAME:UTC
DTSTART:20240101T000000
END:STANDARD
END:VTIMEZONE
BEGIN:VEVENT
DTSTART;VALUE=DATE:20251222
DTEND;VALUE=DATE:20251227
DTSTAMP:20260425T165731
CREATED:20251203T073253Z
LAST-MODIFIED:20251203T074703Z
UID:5602-1766361600-1766793599@texasnativehealth.org
SUMMARY:TNH CLOSED FOR HOLIDAYS
DESCRIPTION:
URL:https://texasnativehealth.org/event/tnh-closed-for-holidays/
LOCATION:Texas Native Health\, 1283 Record Crossing Rd\, Dallas\, TX\, 75235\, United States
END:VEVENT
END:VCALENDAR