BEGIN:VCALENDAR
VERSION:2.0
PRODID:-//TEXAS NATIVE HEALTH - ECPv6.15.17.1//NONSGML v1.0//EN
CALSCALE:GREGORIAN
METHOD:PUBLISH
X-WR-CALNAME:TEXAS NATIVE HEALTH
X-ORIGINAL-URL:https://texasnativehealth.org
X-WR-CALDESC:Events for TEXAS NATIVE HEALTH
REFRESH-INTERVAL;VALUE=DURATION:PT1H
X-Robots-Tag:noindex
X-PUBLISHED-TTL:PT1H
BEGIN:VTIMEZONE
TZID:UTC
BEGIN:STANDARD
TZOFFSETFROM:+0000
TZOFFSETTO:+0000
TZNAME:UTC
DTSTART:20240101T000000
END:STANDARD
END:VTIMEZONE
BEGIN:VEVENT
DTSTART;TZID=UTC:20250726T100000
DTEND;TZID=UTC:20250726T140000
DTSTAMP:20260420T121426
CREATED:20250707T231347Z
LAST-MODIFIED:20250707T231414Z
UID:5066-1753524000-1753538400@texasnativehealth.org
SUMMARY:Back to School Education Fair 2025
DESCRIPTION:  \n Register as a vendor here:  https://texasnativehealth.formstack.com/forms/tnh_education_fair_vendor_form_2025
URL:https://texasnativehealth.org/event/back-to-school-education-fair-2025/
LOCATION:Community Cultural Center (C3)\, 1269 Record Crossing Rd\, Dallas\, TX\, 75235\, United States
ORGANIZER;CN="Olivia Woodward":MAILTO:owoodward@texasnativehealth.org
END:VEVENT
END:VCALENDAR